BEGIN:VCALENDAR
VERSION:2.0
PRODID:-//hacksw/handcal//NONSGML v1.0//EN
CALSCALE:GREGORIAN
BEGIN:VEVENT
ORGANIZER;CN=Lockheed Martin Corp:MAILTO:no-reply@mail.gcs-web.com
DTEND:
UID:793d6500-b893-4fbd-bf8c-a2ae233b6034
DTSTAMP:1619080229
LOCATION:http://www.meetingcenter.io/266927146
DESCRIPTION:Event Details http://investors.lockheedmartin.com/events/event-details/lmt-virtual-2021-annual-meeting-stockholders\n\nWebcast: http://www.meetingcenter.io/266927146
URL;VALUE=URI:http://www.meetingcenter.io/266927146
SUMMARY:Lockheed Martin Corp - LMT Virtual 2021 Annual Meeting of Stockholders
DTSTART:20210422T120000Z
END:VEVENT
END:VCALENDAR